BEGIN:VCALENDAR
VERSION:2.0
PRODID:-//DCCM Pantry - ECPv6.15.20//NONSGML v1.0//EN
CALSCALE:GREGORIAN
METHOD:PUBLISH
X-ORIGINAL-URL:https://dccmpantry.org
X-WR-CALDESC:Events for DCCM Pantry
REFRESH-INTERVAL;VALUE=DURATION:PT1H
X-Robots-Tag:noindex
X-PUBLISHED-TTL:PT1H
BEGIN:VTIMEZONE
TZID:America/New_York
BEGIN:DAYLIGHT
TZOFFSETFROM:-0500
TZOFFSETTO:-0400
TZNAME:EDT
DTSTART:20220313T070000
END:DAYLIGHT
BEGIN:STANDARD
TZOFFSETFROM:-0400
TZOFFSETTO:-0500
TZNAME:EST
DTSTART:20221106T060000
END:STANDARD
BEGIN:DAYLIGHT
TZOFFSETFROM:-0500
TZOFFSETTO:-0400
TZNAME:EDT
DTSTART:20230312T070000
END:DAYLIGHT
BEGIN:STANDARD
TZOFFSETFROM:-0400
TZOFFSETTO:-0500
TZNAME:EST
DTSTART:20231105T060000
END:STANDARD
BEGIN:DAYLIGHT
TZOFFSETFROM:-0500
TZOFFSETTO:-0400
TZNAME:EDT
DTSTART:20240310T070000
END:DAYLIGHT
BEGIN:STANDARD
TZOFFSETFROM:-0400
TZOFFSETTO:-0500
TZNAME:EST
DTSTART:20241103T060000
END:STANDARD
END:VTIMEZONE
BEGIN:VEVENT
DTSTART;TZID=America/New_York:20231202T090000
DTEND;TZID=America/New_York:20231202T110000
DTSTAMP:20260425T072839
CREATED:20231121T022030Z
LAST-MODIFIED:20231121T022030Z
UID:897-1701507600-1701514800@dccmpantry.org
SUMMARY:First of two Food Distributions in December
DESCRIPTION:We will have two distributions in December. This is the first of two. We will distribute food until 11AM or until the food runs out
URL:https://dccmpantry.org/event/first-of-two-food-distributions-in-december/
LOCATION:DCCM\, 700 Block of Telfair Street\, Augusta\, GA\, 30901\, United States
END:VEVENT
END:VCALENDAR