BEGIN:VCALENDAR
VERSION:2.0
PRODID:-//DCCM Pantry - ECPv6.15.20//NONSGML v1.0//EN
CALSCALE:GREGORIAN
METHOD:PUBLISH
X-ORIGINAL-URL:https://dccmpantry.org
X-WR-CALDESC:Events for DCCM Pantry
REFRESH-INTERVAL;VALUE=DURATION:PT1H
X-Robots-Tag:noindex
X-PUBLISHED-TTL:PT1H
BEGIN:VTIMEZONE
TZID:America/New_York
BEGIN:DAYLIGHT
TZOFFSETFROM:-0500
TZOFFSETTO:-0400
TZNAME:EDT
DTSTART:20240310T070000
END:DAYLIGHT
BEGIN:STANDARD
TZOFFSETFROM:-0400
TZOFFSETTO:-0500
TZNAME:EST
DTSTART:20241103T060000
END:STANDARD
BEGIN:DAYLIGHT
TZOFFSETFROM:-0500
TZOFFSETTO:-0400
TZNAME:EDT
DTSTART:20250309T070000
END:DAYLIGHT
BEGIN:STANDARD
TZOFFSETFROM:-0400
TZOFFSETTO:-0500
TZNAME:EST
DTSTART:20251102T060000
END:STANDARD
BEGIN:DAYLIGHT
TZOFFSETFROM:-0500
TZOFFSETTO:-0400
TZNAME:EDT
DTSTART:20260308T070000
END:DAYLIGHT
BEGIN:STANDARD
TZOFFSETFROM:-0400
TZOFFSETTO:-0500
TZNAME:EST
DTSTART:20261101T060000
END:STANDARD
END:VTIMEZONE
BEGIN:VEVENT
DTSTART;TZID=America/New_York:20250215T090000
DTEND;TZID=America/New_York:20250215T110000
DTSTAMP:20260424T094045
CREATED:20250128T215757Z
LAST-MODIFIED:20250128T215757Z
UID:1017-1739610000-1739617200@dccmpantry.org
SUMMARY:February Food Distribution
DESCRIPTION:We will have a food distribution starting at 9AM. Volunteers are asked to show up 30 minutes prior to help set up.
URL:https://dccmpantry.org/event/february-food-distribution/
LOCATION:DCCM\, 700 Block of Telfair Street\, Augusta\, GA\, 30901\, United States
END:VEVENT
END:VCALENDAR