BEGIN:VCALENDAR
VERSION:2.0
PRODID:-//DCCM Pantry - ECPv6.15.20//NONSGML v1.0//EN
CALSCALE:GREGORIAN
METHOD:PUBLISH
X-WR-CALNAME:DCCM Pantry
X-ORIGINAL-URL:https://dccmpantry.org
X-WR-CALDESC:Events for DCCM Pantry
REFRESH-INTERVAL;VALUE=DURATION:PT1H
X-Robots-Tag:noindex
X-PUBLISHED-TTL:PT1H
BEGIN:VTIMEZONE
TZID:America/New_York
BEGIN:DAYLIGHT
TZOFFSETFROM:-0500
TZOFFSETTO:-0400
TZNAME:EDT
DTSTART:20220313T070000
END:DAYLIGHT
BEGIN:STANDARD
TZOFFSETFROM:-0400
TZOFFSETTO:-0500
TZNAME:EST
DTSTART:20221106T060000
END:STANDARD
BEGIN:DAYLIGHT
TZOFFSETFROM:-0500
TZOFFSETTO:-0400
TZNAME:EDT
DTSTART:20230312T070000
END:DAYLIGHT
BEGIN:STANDARD
TZOFFSETFROM:-0400
TZOFFSETTO:-0500
TZNAME:EST
DTSTART:20231105T060000
END:STANDARD
BEGIN:DAYLIGHT
TZOFFSETFROM:-0500
TZOFFSETTO:-0400
TZNAME:EDT
DTSTART:20240310T070000
END:DAYLIGHT
BEGIN:STANDARD
TZOFFSETFROM:-0400
TZOFFSETTO:-0500
TZNAME:EST
DTSTART:20241103T060000
END:STANDARD
END:VTIMEZONE
BEGIN:VEVENT
DTSTART;TZID=America/New_York:20230603T090000
DTEND;TZID=America/New_York:20230603T110000
DTSTAMP:20260424T063948
CREATED:20230529T114957Z
LAST-MODIFIED:20230529T115007Z
UID:818-1685782800-1685790000@dccmpantry.org
SUMMARY:Mobile Food Distribution
DESCRIPTION:June will have two food pickups. The first being June 3. Please bring some form of ID per family. Volunteers should arrive by 8:30 to help setup.
URL:https://dccmpantry.org/event/mobile-distribution/
LOCATION:GA
END:VEVENT
BEGIN:VEVENT
DTSTART;TZID=America/New_York:20230520T090000
DTEND;TZID=America/New_York:20230520T110000
DTSTAMP:20260424T063948
CREATED:20230411T122931Z
LAST-MODIFIED:20230411T123202Z
UID:805-1684573200-1684580400@dccmpantry.org
SUMMARY:Food Distribution
DESCRIPTION:Our monthly food distribution. Make sure you have your Georgia driver’s license or other form of state ID. Volunteers are asked to arrive by 8:30 to help setup
URL:https://dccmpantry.org/event/food-distribution-2/
LOCATION:DCCM\, 700 Block of Telfair Street\, Augusta\, GA\, 30901\, United States
END:VEVENT
BEGIN:VEVENT
DTSTART;TZID=America/New_York:20230415T090000
DTEND;TZID=America/New_York:20230415T110000
DTSTAMP:20260424T063948
CREATED:20230411T122813Z
LAST-MODIFIED:20230411T123140Z
UID:803-1681549200-1681556400@dccmpantry.org
SUMMARY:Food Distribution
DESCRIPTION:Our regular monthly food distribution. Make sure you have your Georgia driver’s license or other form of state ID. Volunteers are asked to arrive by 8:30 to help setup
URL:https://dccmpantry.org/event/food-distribution/
LOCATION:DCCM\, 700 Block of Telfair Street\, Augusta\, GA\, 30901\, United States
END:VEVENT
BEGIN:VEVENT
DTSTART;TZID=America/New_York:20230318T090000
DTEND;TZID=America/New_York:20230318T110000
DTSTAMP:20260424T063948
CREATED:20230303T145740Z
LAST-MODIFIED:20230303T145740Z
UID:593-1679130000-1679137200@dccmpantry.org
SUMMARY:March 18\, 2023 Food Distribution
DESCRIPTION:Our Mobile Food Distribution. Please bring a form of identification. The line forms on Telfair Street across from the Bell Auditorium.
URL:https://dccmpantry.org/event/march-18-2023-food-distribution/
LOCATION:DCCM\, 700 Block of Telfair Street\, Augusta\, GA\, 30901\, United States
END:VEVENT
BEGIN:VEVENT
DTSTART;TZID=America/New_York:20230304T090000
DTEND;TZID=America/New_York:20230304T110000
DTSTAMP:20260424T063948
CREATED:20230303T145602Z
LAST-MODIFIED:20230303T145602Z
UID:590-1677920400-1677927600@dccmpantry.org
SUMMARY:March 4\, 2023
DESCRIPTION:Our Mobile Food Distribution. Please bring a form of identification. The line forms on Telfair Street across from the Bell Auditorium.
URL:https://dccmpantry.org/event/march-4-2023/
LOCATION:DCCM\, 700 Block of Telfair Street\, Augusta\, GA\, 30901\, United States
END:VEVENT
END:VCALENDAR