BEGIN:VCALENDAR
VERSION:2.0
PRODID:-//DCCM Pantry - ECPv6.15.20//NONSGML v1.0//EN
CALSCALE:GREGORIAN
METHOD:PUBLISH
X-ORIGINAL-URL:https://dccmpantry.org
X-WR-CALDESC:Events for DCCM Pantry
REFRESH-INTERVAL;VALUE=DURATION:PT1H
X-Robots-Tag:noindex
X-PUBLISHED-TTL:PT1H
BEGIN:VTIMEZONE
TZID:America/New_York
BEGIN:DAYLIGHT
TZOFFSETFROM:-0500
TZOFFSETTO:-0400
TZNAME:EDT
DTSTART:20220313T070000
END:DAYLIGHT
BEGIN:STANDARD
TZOFFSETFROM:-0400
TZOFFSETTO:-0500
TZNAME:EST
DTSTART:20221106T060000
END:STANDARD
BEGIN:DAYLIGHT
TZOFFSETFROM:-0500
TZOFFSETTO:-0400
TZNAME:EDT
DTSTART:20230312T070000
END:DAYLIGHT
BEGIN:STANDARD
TZOFFSETFROM:-0400
TZOFFSETTO:-0500
TZNAME:EST
DTSTART:20231105T060000
END:STANDARD
BEGIN:DAYLIGHT
TZOFFSETFROM:-0500
TZOFFSETTO:-0400
TZNAME:EDT
DTSTART:20240310T070000
END:DAYLIGHT
BEGIN:STANDARD
TZOFFSETFROM:-0400
TZOFFSETTO:-0500
TZNAME:EST
DTSTART:20241103T060000
END:STANDARD
END:VTIMEZONE
BEGIN:VEVENT
DTSTART;TZID=America/New_York:20230603T090000
DTEND;TZID=America/New_York:20230603T110000
DTSTAMP:20260425T152132
CREATED:20230529T114957Z
LAST-MODIFIED:20230529T115007Z
UID:818-1685782800-1685790000@dccmpantry.org
SUMMARY:Mobile Food Distribution
DESCRIPTION:June will have two food pickups. The first being June 3. Please bring some form of ID per family. Volunteers should arrive by 8:30 to help setup.
URL:https://dccmpantry.org/event/mobile-distribution/
LOCATION:GA
END:VEVENT
BEGIN:VEVENT
DTSTART;TZID=America/New_York:20230617T090000
DTEND;TZID=America/New_York:20230617T110000
DTSTAMP:20260425T152132
CREATED:20230529T115153Z
LAST-MODIFIED:20230529T115153Z
UID:821-1686992400-1686999600@dccmpantry.org
SUMMARY:Mobile Food Distribution
DESCRIPTION:This is the second of two drives in the month of June. Make sure you have your Georgia driver’s license or other form of state ID. Volunteers are asked to arrive by 8:30 to help setup
URL:https://dccmpantry.org/event/mobile-food-distribution/
LOCATION:GA
END:VEVENT
END:VCALENDAR